BEGIN:VCALENDAR
VERSION:2.0
PRODID:-//inGriffin - ECPv6.15.20//NONSGML v1.0//EN
CALSCALE:GREGORIAN
METHOD:PUBLISH
X-WR-CALNAME:inGriffin
X-ORIGINAL-URL:https://ingriffin.com
X-WR-CALDESC:Events for inGriffin
REFRESH-INTERVAL;VALUE=DURATION:PT1H
X-Robots-Tag:noindex
X-PUBLISHED-TTL:PT1H
BEGIN:VTIMEZONE
TZID:America/New_York
BEGIN:DAYLIGHT
TZOFFSETFROM:-0500
TZOFFSETTO:-0400
TZNAME:EDT
DTSTART:20240310T070000
END:DAYLIGHT
BEGIN:STANDARD
TZOFFSETFROM:-0400
TZOFFSETTO:-0500
TZNAME:EST
DTSTART:20241103T060000
END:STANDARD
BEGIN:DAYLIGHT
TZOFFSETFROM:-0500
TZOFFSETTO:-0400
TZNAME:EDT
DTSTART:20250309T070000
END:DAYLIGHT
BEGIN:STANDARD
TZOFFSETFROM:-0400
TZOFFSETTO:-0500
TZNAME:EST
DTSTART:20251102T060000
END:STANDARD
BEGIN:DAYLIGHT
TZOFFSETFROM:-0500
TZOFFSETTO:-0400
TZNAME:EDT
DTSTART:20260308T070000
END:DAYLIGHT
BEGIN:STANDARD
TZOFFSETFROM:-0400
TZOFFSETTO:-0500
TZNAME:EST
DTSTART:20261101T060000
END:STANDARD
END:VTIMEZONE
BEGIN:VEVENT
DTSTART;TZID=America/New_York:20251201T130000
DTEND;TZID=America/New_York:20251201T180000
DTSTAMP:20260424T153905
CREATED:20251122T195426Z
LAST-MODIFIED:20251122T195426Z
UID:10731-1764594000-1764612000@ingriffin.com
SUMMARY:Red Cross Blood Drive
DESCRIPTION:Red Cross Blood Drive is open to anyone who would like to donate blood.  \nThe Blood Drive will be held in the Stuckey Auditorium on the UGA Griffin Campus located at 1109 Experiment Street Griffin.  \nTo register to donate\, visit www.redcrossblood.org and use the sponsor code UGAgriffin.
URL:https://ingriffin.com/event/red-cross-blood-drive/
LOCATION:University of Georgia – Griffin Campus\, 1109 Experiment Street\, Griffin\, 30223\, United States
CATEGORIES:Community and Causes
ATTACH;FMTTYPE=image/jpeg:https://ingriffin.com/wp-content/uploads/2025/11/Blood-Drive.jpg
END:VEVENT
END:VCALENDAR