BEGIN:VCALENDAR
VERSION:2.0
PRODID:-//inGriffin - ECPv6.15.20//NONSGML v1.0//EN
CALSCALE:GREGORIAN
METHOD:PUBLISH
X-WR-CALNAME:inGriffin
X-ORIGINAL-URL:https://ingriffin.com
X-WR-CALDESC:Events for inGriffin
REFRESH-INTERVAL;VALUE=DURATION:PT1H
X-Robots-Tag:noindex
X-PUBLISHED-TTL:PT1H
BEGIN:VTIMEZONE
TZID:America/New_York
BEGIN:DAYLIGHT
TZOFFSETFROM:-0500
TZOFFSETTO:-0400
TZNAME:EDT
DTSTART:20240310T070000
END:DAYLIGHT
BEGIN:STANDARD
TZOFFSETFROM:-0400
TZOFFSETTO:-0500
TZNAME:EST
DTSTART:20241103T060000
END:STANDARD
BEGIN:DAYLIGHT
TZOFFSETFROM:-0500
TZOFFSETTO:-0400
TZNAME:EDT
DTSTART:20250309T070000
END:DAYLIGHT
BEGIN:STANDARD
TZOFFSETFROM:-0400
TZOFFSETTO:-0500
TZNAME:EST
DTSTART:20251102T060000
END:STANDARD
BEGIN:DAYLIGHT
TZOFFSETFROM:-0500
TZOFFSETTO:-0400
TZNAME:EDT
DTSTART:20260308T070000
END:DAYLIGHT
BEGIN:STANDARD
TZOFFSETFROM:-0400
TZOFFSETTO:-0500
TZNAME:EST
DTSTART:20261101T060000
END:STANDARD
BEGIN:DAYLIGHT
TZOFFSETFROM:-0500
TZOFFSETTO:-0400
TZNAME:EDT
DTSTART:20270314T070000
END:DAYLIGHT
BEGIN:STANDARD
TZOFFSETFROM:-0400
TZOFFSETTO:-0500
TZNAME:EST
DTSTART:20271107T060000
END:STANDARD
END:VTIMEZONE
BEGIN:VEVENT
DTSTART;TZID=America/New_York:20260412T110000
DTEND;TZID=America/New_York:20260412T200000
DTSTAMP:20260424T122220
CREATED:20260106T212807Z
LAST-MODIFIED:20260202T224651Z
UID:10000096-1775991600-1776024000@ingriffin.com
SUMMARY:2026 Motherhood Healing Festival
DESCRIPTION:The Motherhood Healing Festival is a public\, family friendly cultural festival celebrating maternal health\, community care\, and cultural wellness\, with a strong focus on Black maternal health and healing. This immersive\, full day experience welcomes visitors of all backgrounds to gather for meaningful connection\, celebration\, and restorative experiences. \nFestival highlights include live music and performances\, interactive cultural workshops\, guided movement and wellness experiences\, a vibrant vendor marketplace\, and a nourishing community lunch prepared by a renowned Gullah Geechee chef. Guests can explore somatic movement\, yoga\, meditation\, and traditional healing practices while enjoying opportunities to relax\, learn\, and connect in community. \nThe Motherhood Healing Festival is designed as a destination worthy experience for families seeking culture\, wellness\, and connection. Hosted just minutes from Griffin\, the festival invites attendees to stay\, dine\, and explore throughout Griffin and Spalding County during the weekend.
URL:https://ingriffin.com/event/2026-motherhood-healing-festival/
LOCATION:Sanoah Springs\, 156 School Street\, Williamson\, 30292
CATEGORIES:Community and Causes,Health and Wellness
ATTACH;FMTTYPE=image/jpeg:https://ingriffin.com/wp-content/uploads/2026/01/IMG_6549.jpeg
ORGANIZER;CN="Evonna Christmon Marshall":MAILTO:earthside@evonnachristmon.com
END:VEVENT
BEGIN:VEVENT
DTSTART;TZID=America/New_York:20251203T180000
DTEND;TZID=America/New_York:20251203T190000
DTSTAMP:20260424T122220
CREATED:20251102T230948Z
LAST-MODIFIED:20251102T231149Z
UID:10000027-1764784800-1764788400@ingriffin.com
SUMMARY:Community Walking Group
DESCRIPTION:Let’s walk together for better health!  \nEvery Wednesday at 6:00 pm. Location will vary\, see QR code for an up-to-date schedule. This is a joint program from Griffin-Spalding County Library and Spalding Leisure Services.  Weather permitting.
URL:https://ingriffin.com/event/community-walking-group/2025-12-03/
CATEGORIES:Health and Wellness
ATTACH;FMTTYPE=image/png:https://ingriffin.com/wp-content/uploads/2025/10/Walking-Club-with-QR-code-1200x630-for-Griffin-Event-Page.png
END:VEVENT
BEGIN:VEVENT
DTSTART;TZID=America/New_York:20251126T180000
DTEND;TZID=America/New_York:20251126T190000
DTSTAMP:20260424T122220
CREATED:20251102T230948Z
LAST-MODIFIED:20251102T231149Z
UID:10000026-1764180000-1764183600@ingriffin.com
SUMMARY:Community Walking Group
DESCRIPTION:Let’s walk together for better health!  \nEvery Wednesday at 6:00 pm. Location will vary\, see QR code for an up-to-date schedule. This is a joint program from Griffin-Spalding County Library and Spalding Leisure Services.  Weather permitting.
URL:https://ingriffin.com/event/community-walking-group/2025-11-26/
CATEGORIES:Health and Wellness
ATTACH;FMTTYPE=image/png:https://ingriffin.com/wp-content/uploads/2025/10/Walking-Club-with-QR-code-1200x630-for-Griffin-Event-Page.png
END:VEVENT
BEGIN:VEVENT
DTSTART;TZID=America/New_York:20251119T180000
DTEND;TZID=America/New_York:20251119T190000
DTSTAMP:20260424T122220
CREATED:20251102T230948Z
LAST-MODIFIED:20251102T231149Z
UID:10000025-1763575200-1763578800@ingriffin.com
SUMMARY:Community Walking Group
DESCRIPTION:Let’s walk together for better health!  \nEvery Wednesday at 6:00 pm. Location will vary\, see QR code for an up-to-date schedule. This is a joint program from Griffin-Spalding County Library and Spalding Leisure Services.  Weather permitting.
URL:https://ingriffin.com/event/community-walking-group/2025-11-19/
CATEGORIES:Health and Wellness
ATTACH;FMTTYPE=image/png:https://ingriffin.com/wp-content/uploads/2025/10/Walking-Club-with-QR-code-1200x630-for-Griffin-Event-Page.png
END:VEVENT
BEGIN:VEVENT
DTSTART;TZID=America/New_York:20251112T180000
DTEND;TZID=America/New_York:20251112T190000
DTSTAMP:20260424T122220
CREATED:20251102T230948Z
LAST-MODIFIED:20251102T231149Z
UID:10000024-1762970400-1762974000@ingriffin.com
SUMMARY:Community Walking Group
DESCRIPTION:Let’s walk together for better health!  \nEvery Wednesday at 6:00 pm. Location will vary\, see QR code for an up-to-date schedule. This is a joint program from Griffin-Spalding County Library and Spalding Leisure Services.  Weather permitting.
URL:https://ingriffin.com/event/community-walking-group/2025-11-12/
CATEGORIES:Health and Wellness
ATTACH;FMTTYPE=image/png:https://ingriffin.com/wp-content/uploads/2025/10/Walking-Club-with-QR-code-1200x630-for-Griffin-Event-Page.png
END:VEVENT
BEGIN:VEVENT
DTSTART;TZID=America/New_York:20251108T103000
DTEND;TZID=America/New_York:20251108T113000
DTSTAMP:20260424T122220
CREATED:20251102T230840Z
LAST-MODIFIED:20251102T230840Z
UID:10000082-1762597800-1762601400@ingriffin.com
SUMMARY:Grief Support
DESCRIPTION:The holidays can be a difficult time for many. To help\, Dr. Kiana Battle\, LMSW (Licensed Master Social Worker) will provide practical and tangible support to those impacted by grief and loss.   \nAll are welcome for this free session.  No registration needed.
URL:https://ingriffin.com/event/grief-support/
LOCATION:Griffin-Spalding County Library\, 800 Memorial Drive\, Griffin\, GA\, 30223\, United States
CATEGORIES:Health and Wellness
ATTACH;FMTTYPE=image/png:https://ingriffin.com/wp-content/uploads/2025/10/1200x630-Grief-Support-Kiana-Battle-for-InGriffin-1.png
END:VEVENT
BEGIN:VEVENT
DTSTART;TZID=America/New_York:20251105T180000
DTEND;TZID=America/New_York:20251105T190000
DTSTAMP:20260424T122220
CREATED:20251102T230948Z
LAST-MODIFIED:20251102T231149Z
UID:10000023-1762365600-1762369200@ingriffin.com
SUMMARY:Community Walking Group
DESCRIPTION:Let’s walk together for better health!  \nEvery Wednesday at 6:00 pm. Location will vary\, see QR code for an up-to-date schedule. This is a joint program from Griffin-Spalding County Library and Spalding Leisure Services.  Weather permitting.
URL:https://ingriffin.com/event/community-walking-group/2025-11-05/
CATEGORIES:Health and Wellness
ATTACH;FMTTYPE=image/png:https://ingriffin.com/wp-content/uploads/2025/10/Walking-Club-with-QR-code-1200x630-for-Griffin-Event-Page.png
END:VEVENT
BEGIN:VEVENT
DTSTART;TZID=America/New_York:20251104T113000
DTEND;TZID=America/New_York:20251104T123000
DTSTAMP:20260424T122220
CREATED:20251010T232555Z
LAST-MODIFIED:20251010T232555Z
UID:10000018-1762255800-1762259400@ingriffin.com
SUMMARY:Heart Health & Stress Resilience Lunch & Learn
DESCRIPTION:Presented by Avril James\, MPH\, CHES\, Piedmont Women’s Heart Program Manager \nThis is a free\, interactive program.  Join us to learn: \n        *modifiable risk factors for heart disease\n        *how stress deeply impacts the heart and nervous system\n        *simple techniques to reduce the negavive effects of stress \nA light lunch will be provided\, so please call 770-412-4770 to register by Saturday\, November 1.
URL:https://ingriffin.com/event/heart-health-stress-resilience-lunch-learn/
LOCATION:Griffin-Spalding County Library\, 800 Memorial Drive\, Griffin\, GA\, 30223\, United States
CATEGORIES:Health and Wellness
ATTACH;FMTTYPE=image/png:https://ingriffin.com/wp-content/uploads/2025/10/1200x630-lunch-and-learn-1.png
END:VEVENT
BEGIN:VEVENT
DTSTART;TZID=America/New_York:20251101T090000
DTEND;TZID=America/New_York:20251101T120000
DTSTAMP:20260424T122220
CREATED:20250917T013835Z
LAST-MODIFIED:20250917T013835Z
UID:10000010-1761987600-1761998400@ingriffin.com
SUMMARY:Griffin-Spalding County Library Book Bolt 5K
DESCRIPTION:Welcome to the Griffin-Spalding County Library Book Bolt 5K 2025! \nThe Griffin-Spalding County Library\, in partnership with FROGSLIB (Friends of the Griffin-Spalding County Library)\, presents the 10th Annual Book Bolt 5K Run/Walk. Proceeds from the race benefit the Library’s programs and collection development needs (books\, audio visuals\, etc.) This event is open to everyone. Runners\, walkers\, strollers\, volunteers\, children\, and library lovers are all invited to participate in this family-friendly event. \nPre-register by October 10\, 2025 to be guaranteed a t-shirt. Use the EventBrite link to register! \nRace Day Schedule: \nRace day registration begins at 7:30 AM and ends at 8:45 AM. \nRace begins at 9:00 AM. \nThe race will be held rain or shine!
URL:https://ingriffin.com/event/griffin-spalding-county-library-book-bolt-5k/
LOCATION:310 E. Poplar Street (at S. 5th Street)\, near Memorial Stadium\, 310 E. Poplar Street\, Griffin\, 30224\, United States
CATEGORIES:Community and Causes,Health and Wellness
ATTACH;FMTTYPE=image/jpeg:https://ingriffin.com/wp-content/uploads/2025/09/https-cdn.evbuc_.com-images-1011590283-265817006554-1-original.20250417-195639.jpeg
END:VEVENT
END:VCALENDAR