BEGIN:VCALENDAR
VERSION:2.0
PRODID:-//inGriffin - ECPv6.15.20//NONSGML v1.0//EN
CALSCALE:GREGORIAN
METHOD:PUBLISH
X-WR-CALNAME:inGriffin
X-ORIGINAL-URL:https://ingriffin.com
X-WR-CALDESC:Events for inGriffin
REFRESH-INTERVAL;VALUE=DURATION:PT1H
X-Robots-Tag:noindex
X-PUBLISHED-TTL:PT1H
BEGIN:VTIMEZONE
TZID:America/New_York
BEGIN:DAYLIGHT
TZOFFSETFROM:-0500
TZOFFSETTO:-0400
TZNAME:EDT
DTSTART:20250309T070000
END:DAYLIGHT
BEGIN:STANDARD
TZOFFSETFROM:-0400
TZOFFSETTO:-0500
TZNAME:EST
DTSTART:20251102T060000
END:STANDARD
BEGIN:DAYLIGHT
TZOFFSETFROM:-0500
TZOFFSETTO:-0400
TZNAME:EDT
DTSTART:20260308T070000
END:DAYLIGHT
BEGIN:STANDARD
TZOFFSETFROM:-0400
TZOFFSETTO:-0500
TZNAME:EST
DTSTART:20261101T060000
END:STANDARD
BEGIN:DAYLIGHT
TZOFFSETFROM:-0500
TZOFFSETTO:-0400
TZNAME:EDT
DTSTART:20270314T070000
END:DAYLIGHT
BEGIN:STANDARD
TZOFFSETFROM:-0400
TZOFFSETTO:-0500
TZNAME:EST
DTSTART:20271107T060000
END:STANDARD
END:VTIMEZONE
BEGIN:VEVENT
DTSTART;TZID=America/New_York:20260412T110000
DTEND;TZID=America/New_York:20260412T200000
DTSTAMP:20260424T101240
CREATED:20260106T212807Z
LAST-MODIFIED:20260202T224651Z
UID:10000096-1775991600-1776024000@ingriffin.com
SUMMARY:2026 Motherhood Healing Festival
DESCRIPTION:The Motherhood Healing Festival is a public\, family friendly cultural festival celebrating maternal health\, community care\, and cultural wellness\, with a strong focus on Black maternal health and healing. This immersive\, full day experience welcomes visitors of all backgrounds to gather for meaningful connection\, celebration\, and restorative experiences. \nFestival highlights include live music and performances\, interactive cultural workshops\, guided movement and wellness experiences\, a vibrant vendor marketplace\, and a nourishing community lunch prepared by a renowned Gullah Geechee chef. Guests can explore somatic movement\, yoga\, meditation\, and traditional healing practices while enjoying opportunities to relax\, learn\, and connect in community. \nThe Motherhood Healing Festival is designed as a destination worthy experience for families seeking culture\, wellness\, and connection. Hosted just minutes from Griffin\, the festival invites attendees to stay\, dine\, and explore throughout Griffin and Spalding County during the weekend.
URL:https://ingriffin.com/event/2026-motherhood-healing-festival/
LOCATION:Sanoah Springs\, 156 School Street\, Williamson\, 30292
CATEGORIES:Community and Causes,Health and Wellness
ATTACH;FMTTYPE=image/jpeg:https://ingriffin.com/wp-content/uploads/2026/01/IMG_6549.jpeg
ORGANIZER;CN="Evonna Christmon Marshall":MAILTO:earthside@evonnachristmon.com
END:VEVENT
BEGIN:VEVENT
DTSTART;TZID=America/New_York:20260417T180000
DTEND;TZID=America/New_York:20260417T210000
DTSTAMP:20260424T101240
CREATED:20260403T161742Z
LAST-MODIFIED:20260403T161742Z
UID:10000108-1776448800-1776459600@ingriffin.com
SUMMARY:Community Resource Fair and Movie in the Park
DESCRIPTION:Over the last six years\, City Church in Griffin has been providing an opportunity for families in Griffin to enjoy a free night of creating memories as a family. From a free movie\, popcorn\, ice cream\, and water to games and more this event has seen hundreds of families and friends come together in Griffin.  \nWe are excited to announce that in April 17th\, 2026 Movie in the Park will also be a space for a Community Resource Fair. In partnership with the Spalding Collaborative for Children and Families\, we are excited to create a space for one night in our community where our goal is to gather as many local resources in one place. 
URL:https://ingriffin.com/event/community-resource-fair-and-movie-in-the-park/
LOCATION:Downtown Griffin\, 100 S Hill ST\, Griffin\, 30224
CATEGORIES:Community and Causes,Downtown Events
ATTACH;FMTTYPE=image/png:https://ingriffin.com/wp-content/uploads/2026/04/FLYER.png
ORGANIZER;CN="City Church and Spalding Collaborative":MAILTO:griffinresourcefair@gmail.com
END:VEVENT
BEGIN:VEVENT
DTSTART;TZID=America/New_York:20260418T100000
DTEND;TZID=America/New_York:20260418T143000
DTSTAMP:20260424T101240
CREATED:20260129T212238Z
LAST-MODIFIED:20260202T224631Z
UID:10000100-1776506400-1776522600@ingriffin.com
SUMMARY:2026 Taste of History
DESCRIPTION:Event Details\nTaste of History is set for April 18th 2026 Presented by United Bank! \nGet to know Griffin!  Experience the charm of this sweet southern town\, while you learn about its history from knowledgeable guides.  Your tour will take you on a progressive taste and history tour of the city.  You may even run into some famous legends of Griffin’s past. \nHosted by the Griffin+Spalding Chamber of Commerce supporting restaurants and venues to be announced! \nThis  year\, our Taste of History event will take you through a different look at the first 100 years of our sweet southern town.  We will be enjoying a progressive “taste” at new places and meeting new faces! Get to know Griffin in a whole a new way! \nTickets are available NOW!  Plan to come and bring a friend\, cost of the ticket includes transportation\, food and beverages. \nSome moderate walking and possibly climbing steps is required.
URL:https://ingriffin.com/event/2026-taste-of-history/
LOCATION:UGA Griffin Campus\, 1109 Experiment Street\, Griffin\, 30223
CATEGORIES:Community and Causes
ATTACH;FMTTYPE=image/jpeg:https://ingriffin.com/wp-content/uploads/2026/01/1000022182.jpg
ORGANIZER;CN="Griffin Spalding Chamber of Commerce":MAILTO:cjones@cityofgriffin.com
END:VEVENT
BEGIN:VEVENT
DTSTART;TZID=America/New_York:20260515T090000
DTEND;TZID=America/New_York:20260515T150000
DTSTAMP:20260424T101240
CREATED:20260409T155608Z
LAST-MODIFIED:20260409T155608Z
UID:10000109-1778835600-1778857200@ingriffin.com
SUMMARY:Business @ The Tee Golf Tournament
DESCRIPTION:Business @ The Tee is both Golf Tournament and Business Expo. Businesses with swag and giveaways at each Tee\, cool prizes\, food and more!
URL:https://ingriffin.com/event/business-the-tee-golf-tournament/
LOCATION:Griffin Golf Course\, 625 Camp Northen Rd.\, Griffin\, GA\, 30224-9555\, United States
CATEGORIES:Arts and Culture,Community and Causes,Downtown Events,Food and Drink,Holiday Events
ATTACH;FMTTYPE=image/jpeg:https://ingriffin.com/wp-content/uploads/2026/04/2026-Business-@-The-Tee.jpg
ORGANIZER;CN="Griffin Spalding Chamber of Commerce":MAILTO:cjones@cityofgriffin.com
END:VEVENT
BEGIN:VEVENT
DTSTART;TZID=America/New_York:20260605T170000
DTEND;TZID=America/New_York:20260607T170000
DTSTAMP:20260424T101240
CREATED:20260202T224206Z
LAST-MODIFIED:20260202T224251Z
UID:10000102-1780678800-1780851600@ingriffin.com
SUMMARY:Iris City Golf Classic -Charity Weekend
DESCRIPTION:We invite you to play in the 4th Annual Iris City Golf Classic\, a weekend filled with delicious food\, golf\, great prizes and cash payouts. To kick the weekend off\, there will be a Friday night Players Dinner and auction. \nIf you are a business that is interested in a Sponsorship package\, there are a variety of levels available. All proceeds go to CASA (Court Appointed Special Advocates) aid in helping find safe\, permanent homes for children in foster care.  \nPlayer details below. \nIris City Golf Classic – Charity Weekend\nJUNE 5th-7th\nGriffin Golf Course \n$500 2-Man Shamble\nTwo-Day Golf Tournament\nBig Cash Payouts\n50/50 Putting Contest\nPlayers Dinner & Auction\nLunch Both Days\nPlayer Swag Bag\nRegister By May 23\, 2026 \nGriffin Golf Course\n625 Camp Northen Road\nGriffin\, Georgia 30224\n770-229-6615
URL:https://ingriffin.com/event/iris-city-golf-classic-charity-weekend/
LOCATION:Griffin Golf Course\, 625 Camp Northen Rd.\, Griffin\, GA\, 30224-9555\, United States
CATEGORIES:Community and Causes,Sports and Recreation
ATTACH;FMTTYPE=image/png:https://ingriffin.com/wp-content/uploads/2026/02/SD-NETWORK-ADS-3-1.png
ORGANIZER;CN="Griffin Golf Course":MAILTO:golfcourse@cityofgriffin.com
END:VEVENT
BEGIN:VEVENT
DTSTART;TZID=America/New_York:20260704T010000
DTEND;TZID=America/New_York:20260704T110000
DTSTAMP:20260424T101240
CREATED:20260409T155554Z
LAST-MODIFIED:20260409T155554Z
UID:10000110-1783126800-1783162800@ingriffin.com
SUMMARY:Independence Day Parade
DESCRIPTION:The City of Griffin and Spalding County are excited to continue the tradition of hosting the annual Independence Day Parade in Downtown Griffin. The parade will be held on Saturday\, July 4th at 10:00AM \nLocal businesses and individuals are encouraged to sign up to participate in the parade- walkers\, golf carts\, vehicles\, and floats are allowed. \nTo participate in the parade\, all golf carts\, vehicles\, and floats must be patriotically decorated and display a banner for the business or organization. If your parade entry includes a pull-behind trailer\, the length may not exceed 25 feet. \n**Please describe all parade entries individually in your group when registering (ex: Griffin Main Street program is entering 1 truck with trailer (float)\, 3 golf carts\, and will have walkers) \nPlease Note: NO CANDY is allowed to be thrown during the parade; walkers may hand out candy to spectators.
URL:https://ingriffin.com/event/independence-day-parade/
LOCATION:Downtown Griffin\, 100 S Hill ST\, Griffin\, 30224
CATEGORIES:Community and Causes,Holiday Events
ATTACH;FMTTYPE=image/jpeg:https://ingriffin.com/wp-content/uploads/2026/04/independence-day-parade.jpg
END:VEVENT
END:VCALENDAR