BEGIN:VCALENDAR
VERSION:2.0
PRODID:-//inGriffin - ECPv6.15.20//NONSGML v1.0//EN
CALSCALE:GREGORIAN
METHOD:PUBLISH
X-WR-CALNAME:inGriffin
X-ORIGINAL-URL:https://ingriffin.com
X-WR-CALDESC:Events for inGriffin
REFRESH-INTERVAL;VALUE=DURATION:PT1H
X-Robots-Tag:noindex
X-PUBLISHED-TTL:PT1H
BEGIN:VTIMEZONE
TZID:America/New_York
BEGIN:DAYLIGHT
TZOFFSETFROM:-0500
TZOFFSETTO:-0400
TZNAME:EDT
DTSTART:20240310T070000
END:DAYLIGHT
BEGIN:STANDARD
TZOFFSETFROM:-0400
TZOFFSETTO:-0500
TZNAME:EST
DTSTART:20241103T060000
END:STANDARD
BEGIN:DAYLIGHT
TZOFFSETFROM:-0500
TZOFFSETTO:-0400
TZNAME:EDT
DTSTART:20250309T070000
END:DAYLIGHT
BEGIN:STANDARD
TZOFFSETFROM:-0400
TZOFFSETTO:-0500
TZNAME:EST
DTSTART:20251102T060000
END:STANDARD
BEGIN:DAYLIGHT
TZOFFSETFROM:-0500
TZOFFSETTO:-0400
TZNAME:EDT
DTSTART:20260308T070000
END:DAYLIGHT
BEGIN:STANDARD
TZOFFSETFROM:-0400
TZOFFSETTO:-0500
TZNAME:EST
DTSTART:20261101T060000
END:STANDARD
END:VTIMEZONE
BEGIN:VEVENT
DTSTART;TZID=America/New_York:20251025T193000
DTEND;TZID=America/New_York:20251025T213000
DTSTAMP:20260424T160524
CREATED:20251010T232904Z
LAST-MODIFIED:20251010T233211Z
UID:10000020-1761420600-1761427800@ingriffin.com
SUMMARY:Griffin Ballet Theatre presents "Ghosts"
DESCRIPTION:Griffin Ballet Theatre’s family-friendly Halloween spectacular Ghosts is here! Since its premiere\, this spooky-fun adventure has wowed audiences as trick-or-treaters stumble into a haunted house filled with creatures\, goblins\, and dazzling ghosts—all set to the unforgettable music of Michael Jackson. \nThe evening starts with exciting new original works celebrating Motown’s music\, followed by the high-energy dancing that makes Ghosts a beloved Halloween tradition.
URL:https://ingriffin.com/event/griffin-ballet-theatre-presents-ghosts/2025-10-25/
LOCATION:Griffin Auditorium\, 234 E. Taylor St.\, Griffin\, 30224
CATEGORIES:Holiday Events,Performance and Visual Arts
ATTACH;FMTTYPE=image/jpeg:https://ingriffin.com/wp-content/uploads/2025/10/Season-poster-2025.jpg
ORGANIZER;CN="Griffin Ballet Theatre":MAILTO:griffinballettheatre.marketing@gmail.com
END:VEVENT
BEGIN:VEVENT
DTSTART;TZID=America/New_York:20251024T193000
DTEND;TZID=America/New_York:20251024T213000
DTSTAMP:20260424T160524
CREATED:20251010T233030Z
LAST-MODIFIED:20251010T233143Z
UID:10000019-1761334200-1761341400@ingriffin.com
SUMMARY:Griffin Ballet Theatre presents "Ghosts"
DESCRIPTION:Griffin Ballet Theatre’s family-friendly Halloween spectacular Ghosts is here! Since its premiere\, this spooky-fun adventure has wowed audiences as trick-or-treaters stumble into a haunted house filled with creatures\, goblins\, and dazzling ghosts—all set to the unforgettable music of Michael Jackson. \nThe evening starts with exciting new original works celebrating Motown’s music\, followed by the high-energy dancing that makes Ghosts a beloved Halloween tradition. \nTicket Pricing:\nAdults: $30\nSr. Citizen: $25\n18 and under: $15
URL:https://ingriffin.com/event/griffin-ballet-theatre-presents-ghosts-2/
LOCATION:Griffin Auditorium\, 234 E. Taylor St.\, Griffin\, 30224
CATEGORIES:Holiday Events,Performance and Visual Arts
ATTACH;FMTTYPE=image/jpeg:https://ingriffin.com/wp-content/uploads/2025/10/Season-poster-2025.jpg
ORGANIZER;CN="Griffin Ballet Theatre":MAILTO:griffinballettheatre.marketing@gmail.com
END:VEVENT
END:VCALENDAR