BEGIN:VCALENDAR
VERSION:2.0
PRODID:-//inGriffin - ECPv6.15.20//NONSGML v1.0//EN
CALSCALE:GREGORIAN
METHOD:PUBLISH
X-ORIGINAL-URL:https://ingriffin.com
X-WR-CALDESC:Events for inGriffin
REFRESH-INTERVAL;VALUE=DURATION:PT1H
X-Robots-Tag:noindex
X-PUBLISHED-TTL:PT1H
BEGIN:VTIMEZONE
TZID:America/New_York
BEGIN:DAYLIGHT
TZOFFSETFROM:-0500
TZOFFSETTO:-0400
TZNAME:EDT
DTSTART:20250309T070000
END:DAYLIGHT
BEGIN:STANDARD
TZOFFSETFROM:-0400
TZOFFSETTO:-0500
TZNAME:EST
DTSTART:20251102T060000
END:STANDARD
BEGIN:DAYLIGHT
TZOFFSETFROM:-0500
TZOFFSETTO:-0400
TZNAME:EDT
DTSTART:20260308T070000
END:DAYLIGHT
BEGIN:STANDARD
TZOFFSETFROM:-0400
TZOFFSETTO:-0500
TZNAME:EST
DTSTART:20261101T060000
END:STANDARD
BEGIN:DAYLIGHT
TZOFFSETFROM:-0500
TZOFFSETTO:-0400
TZNAME:EDT
DTSTART:20270314T070000
END:DAYLIGHT
BEGIN:STANDARD
TZOFFSETFROM:-0400
TZOFFSETTO:-0500
TZNAME:EST
DTSTART:20271107T060000
END:STANDARD
END:VTIMEZONE
BEGIN:VEVENT
DTSTART;TZID=America/New_York:20260320T080000
DTEND;TZID=America/New_York:20260320T130000
DTSTAMP:20260424T224528
CREATED:20260121T193504Z
LAST-MODIFIED:20260121T193504Z
UID:10000099-1773993600-1774011600@ingriffin.com
SUMMARY:The Wild Shot Charity Clay Classic
DESCRIPTION:Join us this March at Cherokee Rose Sporting Clays in Griffin\, GA\, for a day of friendly competition\, great food\, and outdoor fun at the Wild Shot Charity Clay Classic! Whether you’re a seasoned shooter or new to the sport\, this event is a blast for everyone — all while supporting conservation and environmental education across Georgia. \nExperience Cherokee Rose’s premier facility\, featuring two exciting 16-station courses that challenge and entertain shooters of all skill levels. After the final round\, enjoy a hearty lunch\, awards ceremony\, and raffle prizes to wrap up an unforgettable day. \nEach team registration includes 100 targets per shooter\, a golf cart\, breakfast\, and lunch.  \nAll proceeds benefit the Southern Conservation Trust’s mission to elevate nature through exceptional stewardship.
URL:https://ingriffin.com/event/the-wild-shot-charity-clay-classic/
LOCATION:Cherokee Rose Sporting Clays\, 895 Baptist Camp Road\, Griffin\, 30223
CATEGORIES:Community and Causes,Sports and Recreation
ATTACH;FMTTYPE=image/png:https://ingriffin.com/wp-content/uploads/2026/01/wild-shot-poster-03-1.png
ORGANIZER;CN="Southern Conservation Trust":MAILTO:info@sctlandtrust.org
END:VEVENT
END:VCALENDAR