BEGIN:VCALENDAR
VERSION:2.0
PRODID:-//inGriffin - ECPv6.15.20//NONSGML v1.0//EN
CALSCALE:GREGORIAN
METHOD:PUBLISH
X-ORIGINAL-URL:https://ingriffin.com
X-WR-CALDESC:Events for inGriffin
REFRESH-INTERVAL;VALUE=DURATION:PT1H
X-Robots-Tag:noindex
X-PUBLISHED-TTL:PT1H
BEGIN:VTIMEZONE
TZID:America/New_York
BEGIN:DAYLIGHT
TZOFFSETFROM:-0500
TZOFFSETTO:-0400
TZNAME:EDT
DTSTART:20250309T070000
END:DAYLIGHT
BEGIN:STANDARD
TZOFFSETFROM:-0400
TZOFFSETTO:-0500
TZNAME:EST
DTSTART:20251102T060000
END:STANDARD
BEGIN:DAYLIGHT
TZOFFSETFROM:-0500
TZOFFSETTO:-0400
TZNAME:EDT
DTSTART:20260308T070000
END:DAYLIGHT
BEGIN:STANDARD
TZOFFSETFROM:-0400
TZOFFSETTO:-0500
TZNAME:EST
DTSTART:20261101T060000
END:STANDARD
BEGIN:DAYLIGHT
TZOFFSETFROM:-0500
TZOFFSETTO:-0400
TZNAME:EDT
DTSTART:20270314T070000
END:DAYLIGHT
BEGIN:STANDARD
TZOFFSETFROM:-0400
TZOFFSETTO:-0500
TZNAME:EST
DTSTART:20271107T060000
END:STANDARD
END:VTIMEZONE
BEGIN:VEVENT
DTSTART;TZID=America/New_York:20260822T090000
DTEND;TZID=America/New_York:20260822T120000
DTSTAMP:20260424T210022
CREATED:20260424T181418Z
LAST-MODIFIED:20260424T181418Z
UID:10000111-1787389200-1787400000@ingriffin.com
SUMMARY:Veteran's Clay Shoot
DESCRIPTION:Join us for a meaningful day of camaraderie\, competition\, and community at our Veterans Clay Shoot! This special event honors the men and women who have served our country while bringing the community together for a fun and engaging outdoor experience. \nParticipants will enjoy a sporting clay shoot course designed for all skill levels—from seasoned shooters to first-timers—along with opportunities to connect with fellow community members\, local businesses\, and veterans. Whether you’re forming a team or registering individually\, it’s a great way to show your support while enjoying a day in the field. \nProceeds from the event will benefit veteran-focused initiatives\, helping provide resources and support to those who have served. \nCome out\, take your shot\, and stand with our veterans!
URL:https://ingriffin.com/event/veterans-clay-shoot/
LOCATION:Cherokee Rose Sporting Clays\, 895 Baptist Camp Road\, Griffin\, 30223
CATEGORIES:Community and Causes,Sports and Recreation
ATTACH;FMTTYPE=image/jpeg:https://ingriffin.com/wp-content/uploads/2026/04/Veterans-Clay-Shoot-2026.jpg
END:VEVENT
END:VCALENDAR